Package: HMMcopy Version: 1.44.0 Command: F:\biocbuild\bbs-3.18-bioc\R\bin\R.exe CMD check --no-multiarch --install=check:HMMcopy.install-out.txt --library=F:\biocbuild\bbs-3.18-bioc\R\library --no-vignettes --timings HMMcopy_1.44.0.tar.gz StartedAt: 2024-04-16 01:41:50 -0400 (Tue, 16 Apr 2024) EndedAt: 2024-04-16 01:42:28 -0400 (Tue, 16 Apr 2024) EllapsedTime: 37.9 seconds RetCode: 0 Status: WARNINGS CheckDir: HMMcopy.Rcheck Warnings: 1