Package: HMMcopy Version: 1.44.0 Command: /home/biocbuild/bbs-3.18-bioc/R/bin/R CMD check --install=check:HMMcopy.install-out.txt --library=/home/biocbuild/bbs-3.18-bioc/R/site-library --timings HMMcopy_1.44.0.tar.gz StartedAt: 2024-04-15 23:48:55 -0400 (Mon, 15 Apr 2024) EndedAt: 2024-04-15 23:49:35 -0400 (Mon, 15 Apr 2024) EllapsedTime: 40.4 seconds RetCode: 0 Status: WARNINGS CheckDir: HMMcopy.Rcheck Warnings: 1