Package: HMMcopy Version: 1.44.0 Command: /Library/Frameworks/R.framework/Resources/bin/R CMD INSTALL HMMcopy StartedAt: 2024-04-15 15:05:09 -0400 (Mon, 15 Apr 2024) EndedAt: 2024-04-15 15:05:39 -0400 (Mon, 15 Apr 2024) EllapsedTime: 29.9 seconds RetCode: 0 Status: OK