Package: HMMcopy Version: 1.44.0 Command: /Library/Frameworks/R.framework/Resources/bin/R CMD INSTALL HMMcopy StartedAt: 2024-03-03 15:04:23 -0500 (Sun, 03 Mar 2024) EndedAt: 2024-03-03 15:04:32 -0500 (Sun, 03 Mar 2024) EllapsedTime: 8.7 seconds RetCode: 0 Status: OK