Package: HMMcopy Version: 1.44.0 Command: /Library/Frameworks/R.framework/Resources/bin/R CMD build --keep-empty-dirs --no-resave-data HMMcopy StartedAt: 2024-03-03 17:03:18 -0500 (Sun, 03 Mar 2024) EndedAt: 2024-03-03 17:03:40 -0500 (Sun, 03 Mar 2024) EllapsedTime: 22.6 seconds RetCode: 0 Status: OK PackageFile: HMMcopy_1.44.0.tar.gz PackageFileSize: 1.896 MiB