Package: HIREewas Version: 1.20.0 Command: rm -rf HIREewas.buildbin-libdir && mkdir HIREewas.buildbin-libdir && F:\biocbuild\bbs-3.18-bioc\R\bin\R.exe CMD INSTALL --build --library=HIREewas.buildbin-libdir HIREewas_1.20.0.tar.gz StartedAt: 2024-04-16 07:08:41 -0400 (Tue, 16 Apr 2024) EndedAt: 2024-04-16 07:08:47 -0400 (Tue, 16 Apr 2024) EllapsedTime: 5.5 seconds RetCode: 0 Status: OK PackageFile: HIREewas_1.20.0.zip PackageFileSize: 290.9 KiB