Package: HIPPO Version: 1.14.0 Command: /Library/Frameworks/R.framework/Resources/bin/R CMD INSTALL HIPPO StartedAt: 2024-04-15 15:21:06 -0400 (Mon, 15 Apr 2024) EndedAt: 2024-04-15 15:22:00 -0400 (Mon, 15 Apr 2024) EllapsedTime: 54.7 seconds RetCode: 0 Status: OK