Package: HIPPO Version: 1.14.0 Command: rm -rf HIPPO.buildbin-libdir && mkdir HIPPO.buildbin-libdir && /Users/biocbuild/BBS/utils/build-universal.sh HIPPO_1.14.0.tar.gz /Library/Frameworks/R.framework/Resources/bin/R HIPPO.buildbin-libdir StartedAt: 2024-04-16 11:57:55 -0400 (Tue, 16 Apr 2024) EndedAt: 2024-04-16 11:59:24 -0400 (Tue, 16 Apr 2024) EllapsedTime: 89.0 seconds RetCode: 0 Status: OK PackageFile: HIPPO_1.14.0.tgz PackageFileSize: 1.004 MiB