Package: HIPPO Version: 1.14.0 Command: /home/biocbuild/R/R-4.3.1/bin/R CMD build --keep-empty-dirs --no-resave-data HIPPO StartedAt: 2023-11-02 02:07:16 -0000 (Thu, 02 Nov 2023) EndedAt: 2023-11-02 02:08:10 -0000 (Thu, 02 Nov 2023) EllapsedTime: 54.1 seconds RetCode: 0 Status: OK PackageFile: HIPPO_1.14.0.tar.gz PackageFileSize: 606.5 KiB