Package: HIBAG Version: 1.38.2 Command: rm -rf HIBAG.buildbin-libdir && mkdir HIBAG.buildbin-libdir && F:\biocbuild\bbs-3.18-bioc\R\bin\R.exe CMD INSTALL --build --library=HIBAG.buildbin-libdir HIBAG_1.38.2.tar.gz StartedAt: 2024-04-16 07:08:11 -0400 (Tue, 16 Apr 2024) EndedAt: 2024-04-16 07:09:04 -0400 (Tue, 16 Apr 2024) EllapsedTime: 53.2 seconds RetCode: 0 Status: OK PackageFile: HIBAG_1.38.2.zip PackageFileSize: 1.986 MiB