Package: HIBAG Version: 1.38.2 Command: /home/biocbuild/bbs-3.18-bioc/R/bin/R CMD build --keep-empty-dirs --no-resave-data HIBAG StartedAt: 2024-04-15 17:29:28 -0400 (Mon, 15 Apr 2024) EndedAt: 2024-04-15 17:30:05 -0400 (Mon, 15 Apr 2024) EllapsedTime: 36.6 seconds RetCode: 0 Status: OK PackageFile: HIBAG_1.38.2.tar.gz PackageFileSize: 1.588 MiB