Package: HIBAG Version: 1.38.0 Command: /home/biocbuild/R/R-4.3.1/bin/R CMD build --keep-empty-dirs --no-resave-data HIBAG StartedAt: 2023-11-02 02:03:08 -0000 (Thu, 02 Nov 2023) EndedAt: 2023-11-02 02:03:55 -0000 (Thu, 02 Nov 2023) EllapsedTime: 47.1 seconds RetCode: 0 Status: OK PackageFile: HIBAG_1.38.0.tar.gz PackageFileSize: 1.72 MiB