Package: HERON Version: 1.0.0 Command: chmod a+r HERON -R && F:\biocbuild\bbs-3.18-bioc\R\bin\R.exe CMD build --keep-empty-dirs --no-resave-data HERON StartedAt: 2024-04-15 19:01:07 -0400 (Mon, 15 Apr 2024) EndedAt: 2024-04-15 19:02:10 -0400 (Mon, 15 Apr 2024) EllapsedTime: 62.7 seconds RetCode: 0 Status: OK PackageFile: HERON_1.0.0.tar.gz PackageFileSize: 963.3 KiB