Package: HELP Version: 1.60.0 Command: /home/biocbuild/R/R-4.3.1/bin/R CMD build --keep-empty-dirs --no-resave-data HELP StartedAt: 2023-11-02 02:01:26 -0000 (Thu, 02 Nov 2023) EndedAt: 2023-11-02 02:01:36 -0000 (Thu, 02 Nov 2023) EllapsedTime: 10.0 seconds RetCode: 0 Status: OK PackageFile: HELP_1.60.0.tar.gz PackageFileSize: 991.6 KiB