Package: HELP Version: 1.60.0 Maintainer: Reid F. Thompson MaintainerEmail: reid.thompson at gmail.com git_url: https://git.bioconductor.org/packages/HELP git_branch: RELEASE_3_18 git_last_commit: 26db6a6 git_last_commit_date: 2023-10-24 09:40:03 -0400 (Tue, 24 Oct 2023)