Package: HDTD Version: 1.36.0 Command: rm -rf HDTD.buildbin-libdir && mkdir HDTD.buildbin-libdir && F:\biocbuild\bbs-3.18-bioc\R\bin\R.exe CMD INSTALL --build --library=HDTD.buildbin-libdir HDTD_1.36.0.tar.gz StartedAt: 2024-04-16 07:07:49 -0400 (Tue, 16 Apr 2024) EndedAt: 2024-04-16 07:08:25 -0400 (Tue, 16 Apr 2024) EllapsedTime: 35.9 seconds RetCode: 0 Status: OK PackageFile: HDTD_1.36.0.zip PackageFileSize: 691.5 KiB