Package: HDTD Version: 1.36.0 Command: /home/biocbuild/bbs-3.18-bioc/R/bin/R CMD INSTALL HDTD StartedAt: 2024-04-15 15:07:16 -0400 (Mon, 15 Apr 2024) EndedAt: 2024-04-15 15:07:41 -0400 (Mon, 15 Apr 2024) EllapsedTime: 24.6 seconds RetCode: 0 Status: OK