Package: HDTD Version: 1.36.0 Command: /home/biocbuild/R/R-4.3.1/bin/R CMD check --install=check:HDTD.install-out.txt --library=/home/biocbuild/R/R-4.3.1/site-library --no-vignettes --timings HDTD_1.36.0.tar.gz StartedAt: 2023-11-02 11:14:09 -0000 (Thu, 02 Nov 2023) EndedAt: 2023-11-02 11:14:31 -0000 (Thu, 02 Nov 2023) EllapsedTime: 21.0 seconds RetCode: 0 Status: OK CheckDir: HDTD.Rcheck Warnings: 0