Package: HDF5Array Version: 1.30.1 Command: /home/biocbuild/bbs-3.18-bioc/R/bin/R CMD INSTALL HDF5Array StartedAt: 2024-04-15 15:12:00 -0400 (Mon, 15 Apr 2024) EndedAt: 2024-04-15 15:12:25 -0400 (Mon, 15 Apr 2024) EllapsedTime: 24.8 seconds RetCode: 0 Status: OK