Package: HDF5Array Version: 1.30.1 Command: /home/biocbuild/bbs-3.18-bioc/R/bin/R CMD build --keep-empty-dirs --no-resave-data HDF5Array StartedAt: 2024-04-15 17:28:34 -0400 (Mon, 15 Apr 2024) EndedAt: 2024-04-15 17:28:36 -0400 (Mon, 15 Apr 2024) EllapsedTime: 2.0 seconds RetCode: 0 Status: OK PackageFile: HDF5Array_1.30.1.tar.gz PackageFileSize: 7.723 MiB