Package: HDF5Array Version: 1.30.0 Command: /home/biocbuild/R/R-4.3.1/bin/R CMD build --keep-empty-dirs --no-resave-data HDF5Array StartedAt: 2023-11-02 02:00:41 -0000 (Thu, 02 Nov 2023) EndedAt: 2023-11-02 02:00:43 -0000 (Thu, 02 Nov 2023) EllapsedTime: 2.0 seconds RetCode: 0 Status: OK PackageFile: HDF5Array_1.30.0.tar.gz PackageFileSize: 7.723 MiB