Package: Gviz Version: 1.46.0 Command: /home/biocbuild/R/R-4.3.1/bin/R CMD INSTALL Gviz StartedAt: 2023-11-01 20:37:06 -0000 (Wed, 01 Nov 2023) EndedAt: 2023-11-01 20:38:34 -0000 (Wed, 01 Nov 2023) EllapsedTime: 87.8 seconds RetCode: 0 Status: OK