Package: Guitar Version: 2.18.0 Command: /home/biocbuild/R/R-4.3.1/bin/R CMD INSTALL Guitar StartedAt: 2023-11-01 20:28:03 -0000 (Wed, 01 Nov 2023) EndedAt: 2023-11-01 20:28:55 -0000 (Wed, 01 Nov 2023) EllapsedTime: 51.3 seconds RetCode: 0 Status: OK