Package: Guitar Version: 2.18.0 Command: /home/biocbuild/R/R-4.3.1/bin/R CMD check --install=check:Guitar.install-out.txt --library=/home/biocbuild/R/R-4.3.1/site-library --no-vignettes --timings Guitar_2.18.0.tar.gz StartedAt: 2023-11-02 11:11:24 -0000 (Thu, 02 Nov 2023) EndedAt: 2023-11-02 11:19:02 -0000 (Thu, 02 Nov 2023) EllapsedTime: 457.7 seconds RetCode: 0 Status: OK CheckDir: Guitar.Rcheck Warnings: 0