Package: GraphAlignment Version: 1.66.0 Command: rm -rf GraphAlignment.buildbin-libdir && mkdir GraphAlignment.buildbin-libdir && /Users/biocbuild/BBS/utils/build-universal.sh GraphAlignment_1.66.0.tar.gz /Library/Frameworks/R.framework/Resources/bin/R GraphAlignment.buildbin-libdir StartedAt: 2024-04-16 11:53:18 -0400 (Tue, 16 Apr 2024) EndedAt: 2024-04-16 11:53:28 -0400 (Tue, 16 Apr 2024) EllapsedTime: 10.4 seconds RetCode: 0 Status: OK PackageFile: GraphAlignment_1.66.0.tgz PackageFileSize: 575.9 KiB