Package: GraphAlignment Version: 1.66.0 Command: rm -rf GraphAlignment.buildbin-libdir && mkdir GraphAlignment.buildbin-libdir && /Users/biocbuild/BBS/utils/build-universal.sh GraphAlignment_1.66.0.tar.gz /Library/Frameworks/R.framework/Resources/bin/R GraphAlignment.buildbin-libdir StartedAt: 2024-03-04 00:44:32 -0500 (Mon, 04 Mar 2024) EndedAt: 2024-03-04 00:44:40 -0500 (Mon, 04 Mar 2024) EllapsedTime: 8.0 seconds RetCode: 0 Status: OK PackageFile: GraphAlignment_1.66.0.tgz PackageFileSize: 575.1 KiB