Package: GraphAlignment Version: 1.66.0 Command: /home/biocbuild/R/R-4.3.1/bin/R CMD check --install=check:GraphAlignment.install-out.txt --library=/home/biocbuild/R/R-4.3.1/site-library --no-vignettes --timings GraphAlignment_1.66.0.tar.gz StartedAt: 2023-11-02 11:07:48 -0000 (Thu, 02 Nov 2023) EndedAt: 2023-11-02 11:08:07 -0000 (Thu, 02 Nov 2023) EllapsedTime: 19.1 seconds RetCode: 0 Status: OK CheckDir: GraphAlignment.Rcheck Warnings: 0