Package: GraphAlignment Version: 1.66.0 Command: /home/biocbuild/R/R-4.3.1/bin/R CMD build --keep-empty-dirs --no-resave-data GraphAlignment StartedAt: 2023-11-02 01:50:02 -0000 (Thu, 02 Nov 2023) EndedAt: 2023-11-02 01:50:09 -0000 (Thu, 02 Nov 2023) EllapsedTime: 7.0 seconds RetCode: 0 Status: OK PackageFile: GraphAlignment_1.66.0.tar.gz PackageFileSize: 576 KiB