Package: GraphAT Version: 1.74.0 Command: rm -rf GraphAT.buildbin-libdir && mkdir GraphAT.buildbin-libdir && F:\biocbuild\bbs-3.18-bioc\R\bin\R.exe CMD INSTALL --build --library=GraphAT.buildbin-libdir GraphAT_1.74.0.tar.gz StartedAt: 2024-04-16 07:06:45 -0400 (Tue, 16 Apr 2024) EndedAt: 2024-04-16 07:06:57 -0400 (Tue, 16 Apr 2024) EllapsedTime: 12.5 seconds RetCode: 0 Status: OK PackageFile: GraphAT_1.74.0.zip PackageFileSize: 1.919 MiB