Package: GraphAT Version: 1.74.0 Command: /home/biocbuild/bbs-3.18-bioc/R/bin/R CMD build --keep-empty-dirs --no-resave-data GraphAT StartedAt: 2024-04-15 17:23:34 -0400 (Mon, 15 Apr 2024) EndedAt: 2024-04-15 17:23:36 -0400 (Mon, 15 Apr 2024) EllapsedTime: 2.0 seconds RetCode: 0 Status: OK PackageFile: GraphAT_1.74.0.tar.gz PackageFileSize: 1.884 MiB