Package: GlobalAncova Version: 4.20.0 Command: /Library/Frameworks/R.framework/Resources/bin/R CMD build --keep-empty-dirs --no-resave-data GlobalAncova StartedAt: 2024-03-03 16:54:10 -0500 (Sun, 03 Mar 2024) EndedAt: 2024-03-03 16:59:20 -0500 (Sun, 03 Mar 2024) EllapsedTime: 310.4 seconds RetCode: 0 Status: OK PackageFile: GlobalAncova_4.20.0.tar.gz PackageFileSize: 1.206 MiB