Package: GloScope Version: 1.0.0 Command: /Library/Frameworks/R.framework/Resources/bin/R CMD build --keep-empty-dirs --no-resave-data GloScope StartedAt: 2024-03-03 16:54:21 -0500 (Sun, 03 Mar 2024) EndedAt: 2024-03-03 16:55:20 -0500 (Sun, 03 Mar 2024) EllapsedTime: 58.6 seconds RetCode: 0 Status: OK PackageFile: GloScope_1.0.0.tar.gz PackageFileSize: 2.627 MiB