Package: Glimma Version: 2.12.0 Command: /home/biocbuild/bbs-3.18-bioc/R/bin/R CMD build --keep-empty-dirs --no-resave-data Glimma StartedAt: 2024-04-15 17:18:21 -0400 (Mon, 15 Apr 2024) EndedAt: 2024-04-15 17:25:58 -0400 (Mon, 15 Apr 2024) EllapsedTime: 457.7 seconds RetCode: 0 Status: OK PackageFile: Glimma_2.12.0.tar.gz PackageFileSize: 11.35 MiB