Package: GladiaTOX Version: 1.18.0 Command: /Library/Frameworks/R.framework/Resources/bin/R CMD INSTALL GladiaTOX StartedAt: 2024-03-03 15:10:33 -0500 (Sun, 03 Mar 2024) EndedAt: 2024-03-03 15:10:51 -0500 (Sun, 03 Mar 2024) EllapsedTime: 17.4 seconds RetCode: 0 Status: OK