Package: GladiaTOX Version: 1.18.0 Command: rm -rf GladiaTOX.buildbin-libdir && mkdir GladiaTOX.buildbin-libdir && /Users/biocbuild/BBS/utils/build-universal.sh GladiaTOX_1.18.0.tar.gz /Library/Frameworks/R.framework/Resources/bin/R GladiaTOX.buildbin-libdir StartedAt: 2024-03-04 00:43:56 -0500 (Mon, 04 Mar 2024) EndedAt: 2024-03-04 00:44:17 -0500 (Mon, 04 Mar 2024) EllapsedTime: 20.6 seconds RetCode: 0 Status: OK PackageFile: GladiaTOX_1.18.0.tgz PackageFileSize: 4.028 MiB