Package: GladiaTOX Version: 1.18.0 Command: /home/biocbuild/R/R-4.3.1/bin/R CMD INSTALL GladiaTOX StartedAt: 2023-11-01 20:16:54 -0000 (Wed, 01 Nov 2023) EndedAt: 2023-11-01 20:17:09 -0000 (Wed, 01 Nov 2023) EllapsedTime: 15.4 seconds RetCode: 0 Status: OK