Package: GladiaTOX Version: 1.18.0 Command: /home/biocbuild/R/R-4.3.1/bin/R CMD build --keep-empty-dirs --no-resave-data GladiaTOX StartedAt: 2023-11-02 01:38:01 -0000 (Thu, 02 Nov 2023) EndedAt: 2023-11-02 01:42:44 -0000 (Thu, 02 Nov 2023) EllapsedTime: 282.4 seconds RetCode: 0 Status: OK PackageFile: GladiaTOX_1.18.0.tar.gz PackageFileSize: 3.813 MiB