Package: GeoTcgaData Version: 2.2.0 Command: chmod a+r GeoTcgaData -R && F:\biocbuild\bbs-3.18-bioc\R\bin\R.exe CMD build --keep-empty-dirs --no-resave-data GeoTcgaData StartedAt: 2024-04-15 18:45:23 -0400 (Mon, 15 Apr 2024) EndedAt: 2024-04-15 18:46:45 -0400 (Mon, 15 Apr 2024) EllapsedTime: 81.8 seconds RetCode: 0 Status: OK PackageFile: GeoTcgaData_2.2.0.tar.gz PackageFileSize: 3.318 MiB