Package: GeoTcgaData Version: 2.2.0 Command: rm -rf GeoTcgaData.buildbin-libdir && mkdir GeoTcgaData.buildbin-libdir && F:\biocbuild\bbs-3.18-bioc\R\bin\R.exe CMD INSTALL --build --library=GeoTcgaData.buildbin-libdir GeoTcgaData_2.2.0.tar.gz StartedAt: 2024-04-16 07:04:50 -0400 (Tue, 16 Apr 2024) EndedAt: 2024-04-16 07:05:40 -0400 (Tue, 16 Apr 2024) EllapsedTime: 50.2 seconds RetCode: 0 Status: OK PackageFile: GeoTcgaData_2.2.0.zip PackageFileSize: 3.447 MiB