Package: GeoTcgaData Version: 2.2.0 Command: rm -rf GeoTcgaData.buildbin-libdir && mkdir GeoTcgaData.buildbin-libdir && /Users/biocbuild/BBS/utils/build-universal.sh GeoTcgaData_2.2.0.tar.gz /Library/Frameworks/R.framework/Resources/bin/R GeoTcgaData.buildbin-libdir StartedAt: 2024-04-16 11:49:39 -0400 (Tue, 16 Apr 2024) EndedAt: 2024-04-16 11:51:26 -0400 (Tue, 16 Apr 2024) EllapsedTime: 107.0 seconds RetCode: 0 Status: OK PackageFile: GeoTcgaData_2.2.0.tgz PackageFileSize: 3.431 MiB