Package: GeoDiff Version: 1.8.0 Command: /home/biocbuild/R/R-4.3.1/bin/R CMD INSTALL GeoDiff StartedAt: 2023-11-01 21:01:58 -0000 (Wed, 01 Nov 2023) EndedAt: 2023-11-01 21:04:44 -0000 (Wed, 01 Nov 2023) EllapsedTime: 166.4 seconds RetCode: 0 Status: OK