Package: GenomicTuples Version: 1.36.0 Command: /home/biocbuild/R/R-4.3.1/bin/R CMD build --keep-empty-dirs --no-resave-data GenomicTuples StartedAt: 2023-11-02 01:28:49 -0000 (Thu, 02 Nov 2023) EndedAt: 2023-11-02 01:29:53 -0000 (Thu, 02 Nov 2023) EllapsedTime: 63.1 seconds RetCode: 0 Status: OK PackageFile: GenomicTuples_1.36.0.tar.gz PackageFileSize: 327.5 KiB