Package: GenomicSuperSignature Version: 1.10.0 Command: rm -rf GenomicSuperSignature.buildbin-libdir && mkdir GenomicSuperSignature.buildbin-libdir && F:\biocbuild\bbs-3.18-bioc\R\bin\R.exe CMD INSTALL --build --library=GenomicSuperSignature.buildbin-libdir GenomicSuperSignature_1.10.0.tar.gz StartedAt: 2024-04-16 07:04:13 -0400 (Tue, 16 Apr 2024) EndedAt: 2024-04-16 07:05:03 -0400 (Tue, 16 Apr 2024) EllapsedTime: 50.7 seconds RetCode: 0 Status: OK PackageFile: GenomicSuperSignature_1.10.0.zip PackageFileSize: 6.626 MiB