Package: GenomicScores Version: 2.14.3 Command: /home/biocbuild/bbs-3.18-bioc/R/bin/R CMD INSTALL GenomicScores StartedAt: 2024-04-15 15:50:26 -0400 (Mon, 15 Apr 2024) EndedAt: 2024-04-15 15:50:57 -0400 (Mon, 15 Apr 2024) EllapsedTime: 31.2 seconds RetCode: 0 Status: OK