Package: GenomicScores Version: 2.14.3 Command: /home/biocbuild/bbs-3.18-bioc/R/bin/R CMD build --keep-empty-dirs --no-resave-data GenomicScores StartedAt: 2024-04-15 17:14:32 -0400 (Mon, 15 Apr 2024) EndedAt: 2024-04-15 17:16:36 -0400 (Mon, 15 Apr 2024) EllapsedTime: 123.7 seconds RetCode: 0 Status: OK PackageFile: GenomicScores_2.14.3.tar.gz PackageFileSize: 1.613 MiB