Package: GenomicScores Version: 2.14.3 Command: /Library/Frameworks/R.framework/Resources/bin/R CMD check --install=check:GenomicScores.install-out.txt --library=/Library/Frameworks/R.framework/Resources/library --no-vignettes --timings GenomicScores_2.14.3.tar.gz StartedAt: 2024-04-16 03:16:08 -0400 (Tue, 16 Apr 2024) EndedAt: 2024-04-16 03:24:18 -0400 (Tue, 16 Apr 2024) EllapsedTime: 489.7 seconds RetCode: 0 Status: OK CheckDir: GenomicScores.Rcheck Warnings: 0