Package: GenomicScores Version: 2.14.3 Command: /Library/Frameworks/R.framework/Resources/bin/R CMD build --keep-empty-dirs --no-resave-data GenomicScores StartedAt: 2024-04-15 18:56:58 -0400 (Mon, 15 Apr 2024) EndedAt: 2024-04-15 19:01:15 -0400 (Mon, 15 Apr 2024) EllapsedTime: 257.1 seconds RetCode: 0 Status: OK PackageFile: GenomicScores_2.14.3.tar.gz PackageFileSize: 1.642 MiB