Package: GenomicScores Version: 2.14.1 Command: /home/biocbuild/R/R-4.3.1/bin/R CMD INSTALL GenomicScores StartedAt: 2023-11-01 21:03:30 -0000 (Wed, 01 Nov 2023) EndedAt: 2023-11-01 21:04:14 -0000 (Wed, 01 Nov 2023) EllapsedTime: 43.5 seconds RetCode: 0 Status: OK