Package: GenomicScores Version: 2.14.1 Command: /home/biocbuild/R/R-4.3.1/bin/R CMD build --keep-empty-dirs --no-resave-data GenomicScores StartedAt: 2023-11-02 01:28:35 -0000 (Thu, 02 Nov 2023) EndedAt: 2023-11-02 01:33:46 -0000 (Thu, 02 Nov 2023) EllapsedTime: 310.4 seconds RetCode: 0 Status: OK PackageFile: GenomicScores_2.14.1.tar.gz PackageFileSize: 2.594 MiB