Package: GenomicRanges Version: 1.54.1 Command: /Library/Frameworks/R.framework/Resources/bin/R CMD build --keep-empty-dirs --no-resave-data GenomicRanges StartedAt: 2024-04-15 18:56:50 -0400 (Mon, 15 Apr 2024) EndedAt: 2024-04-15 19:02:18 -0400 (Mon, 15 Apr 2024) EllapsedTime: 327.6 seconds RetCode: 0 Status: OK PackageFile: GenomicRanges_1.54.1.tar.gz PackageFileSize: 1.302 MiB